Workbook

Sheet CHARGES
A1: CHARGES SCI M2P WITCHITZ 2026
A4: FOURNISSEUR | B4: INTITULE | C4: DATE | D4: % | E4: MONTANT HT | F4: MANNES | G4: ARTISTE FORMATION | H4: HALLE | I4: COMMUNS | J4: E34
A5: DEKRA INDUSTRIAL | F5: =$N$18*E5 -> 0 | G5: =$N$19*E5 -> 0 | H5: =$N$20*E5 -> 0 | I5: =$M$21*E5 -> 0 | J5: 0
A6: DEKRA INDUSTRIAL | B6: Inspection systèmes frigorifiques Annuelle | C6: 45973 | E6: 590 | F6: =$N$18*E6 -> 203.55 | G6: =$N$19*E6 -> 169.625 | H6: =$N$20*E6 -> 216.825 | I6: =$M$21*E6 -> 76.7 | J6: =216.825/2 -> 108.4125
G7: =E7/2 -> 0 | I7: 0
A8: EAU SEINE & BIEVRE | B8: Consommation eau 02/09/2025 au 15/03/2026 | C8: 46132 | D8: SURFACE | E8: 654.28 | F8: =E8*N18 -> 225.7266 | G8: =E8*N19 -> 188.1055 | H8: =E8*N20 -> 240.4479 | J8: 240.4479
A9: EDF | B9: Abonnement suivi conso | C9: 46023 | D9: SURFACE | E9: =29.17 -> 29.17 | F9: =$N$18*E9 -> 10.06365 | G9: =$N$19*E9 -> 8.386375 | H9: =$N$20*E9 -> 10.719975 | I9: =$M$21*E9 -> 3.7921 | J9: 10.719975
B10: Abonnement suivi conso | C10: 46054 | E10: 29.17 | F10: =$N$18*E10 -> 10.06365 | G10: =$N$19*E10 -> 8.386375 | H10: =$N$20*E10 -> 10.719975 | I10: =$M$21*E10 -> 3.7921 | J10: 10.719975
B11: Abonnement suivi conso | C11: 46082 | E11: 29.17 | F11: =$N$18*E11 -> 10.06365 | G11: =$N$19*E11 -> 8.386375 | H11: =$N$20*E11 -> 10.719975 | I11: =$M$21*E11 -> 3.7921 | J11: 10.719975
B12: Abonnement suivi conso | C12: 46113 | E12: 29.17 | F12: =$N$18*E12 -> 10.06365 | G12: =$N$19*E12 -> 8.386375 | H12: =$N$20*E12 -> 10.719975 | I12: =$M$21*E12 -> 3.7921 | J12: 10.719975 | L12: TABLEAU DE SURFACE: | M12: 1 | N12: REEL
B13: Abonnement suivi conso | C13: 46143 | E13: 29.17 | F13: =$N$18*E13 -> 10.06365 | G13: =$N$19*E13 -> 8.386375 | H13: =$N$20*E13 -> 10.719975 | J13: 10.719975
B14: Abonnement suivi conso | C14: 46174 | E14: 29.17 | F14: =$N$18*E14 -> 10.06365 | G14: =$N$19*E14 -> 8.386375 | H14: =$N$20*E14 -> 10.719975 | I14: =$M$21*E14 -> 3.7921 | J14: 10.719975
B15: Abonnement suivi conso | C15: 46204 | E15: 29.17 | F15: =$N$18*E15 -> 10.06365 | G15: =$N$19*E15 -> 8.386375 | H15: =$N$20*E15 -> 10.719975 | J15: 10.719975
B16: Abonnement suivi conso | C16: 46235 | E16: 29.17 | F16: =$N$18*E16 -> 10.06365 | G16: =$N$19*E16 -> 8.386375 | H16: =$N$20*E16 -> 10.719975 | J16: 0
B17: Abonnement suivi conso | C17: 46266 | E17: 29.17 | F17: =$N$18*E17 -> 10.06365 | G17: =$N$19*E17 -> 8.386375 | H17: =$N$20*E17 -> 10.719975 | J17: 0
B18: Abonnement suivi conso | C18: 46296 | E18: 29.17 | F18: =$N$18*E18 -> 10.06365 | G18: =$N$19*E18 -> 8.386375 | H18: =$N$20*E18 -> 10.719975 | J18: 0 | L18: MANNES | M18: 0.3 | N18: 0.345
B19: Abonnement suivi conso | C19: 46327 | E19: 29.17 | F19: =$N$18*E19 -> 10.06365 | G19: =$N$19*E19 -> 8.386375 | H19: =$N$20*E19 -> 10.719975 | J19: 0 | L19: ARTISTE FORMATION | M19: 0.25 | N19: 0.2875
B20: Abonnement suivi conso | C20: 46357 | E20: 29.17 | F20: =$N$18*E20 -> 10.06365 | G20: =$N$19*E20 -> 8.386375 | H20: =$N$20*E20 -> 10.719975 | I20: =$M$21*E20 -> 3.7921 | J20: 0 | L20: EUREKA 34 | M20: 0.32 | N20: 0.3675
A21: EDF | B21: Consommation électricité 01/2026 | C21: 45700 | D21: REEL | E21: 7162.96 | F21: =Électricité!G15 -> 2412.4576 | G21: =Électricité!G16 -> 3467.4473 | H21: =Électricité!G20 -> 1283.055 | J21: 1283.055 | L21: COMMUN | M21: 0.13 | N21: locaux techniques+terrasse+cour commune à répartir entre les 3 locataires
B22: Consommation électricité 02/2026 | C22: 45728 | E22: 4497.36 | F22: =Électricité!O15 -> 1731.3151 | G22: =Électricité!O16 -> 1926.7789 | H22: =Électricité!O20 -> 839.26608 | J22: 839.26608
B23: Consommation électricité 03/2026 | C23: 45749 | E23: 2552.49 | F23: =Électricité!G30 -> 1316.5737 | G23: =Électricité!G31 -> 842.46075 | H23: =Électricité!G35 -> 393.45553 | J23: 393.45553
B24: Consommation électricité 04/2026 | C24: 45779 | E24: 1248.45 | F24: =Électricité!O30 -> 773.21826 | G24: =Électricité!O31 -> 346.05158 | H24: =Électricité!O35 -> 129.18016 | J24: 129.18016
B25: Consommation électricité 05/2026 | C25: 45811 | E25: 1272.4 | F25: =Électricité!G45 -> 786.26335 | G25: =Électricité!G46 -> 282.40911 | H25: =Électricité!G50 -> 203.72754 | J25: 203.72754
B26: Consommation électricité 06/2026 | F26: 0 | G26: 0 | H26: 0 | J26: 0
B27: Consommation électricité 07/2026 | F27: 0 | G27: 0 | H27: 0 | J27: 0
B28: Consommation électricité 08/2026 | F28: 0 | G28: 0 | H28: 0 | J28: 0
B29: Consommation électricité 09/2026 | F29: 0 | G29: 0 | H29: 0 | J29: 0
B30: Consommation électricité 10/2026 | F30: 0 | G30: 0 | H30: 0 | J30: 0
B31: Consommation électricité 11/2026 | F31: 0 | G31: 0 | H31: 0 | J31: 0
B32: Consommation électricité 12/2026 | F32: 0 | G32: 0 | H32: 0 | J32: 0
A33: AXA | B33: Assurance cotisation du 01/01/2026 au 01/01/2027 | C33: 46009 | D33: SURFACE | E33: 13946.04 | F33: =$N$18*E33 -> 4811.3838 | G33: =$N$19*E33 -> 4009.4865 | H33: =$N$20*E33 -> 5125.1697 | I33: =$M$21*E33 -> 1812.9852 | J33: =5125.1697/2 -> 2562.5849
A34: NEA | B34: Contrat d'entretien annuel | C34: 45930 | E34: 4800 | F34: 4800
A35: NEA | B35: Contrat d'entretien annuel | C35: 45930 | D35: SURFACE | E35: 9400 | F35: =$N$18*E35 -> 3243 | G35: =$N$19*E35 -> 2702.5 | H35: =$N$20*E35 -> 3454.5 | I35: =$M$21*E35 -> 1222 | J35: =3454.5/2 -> 1727.25
A36: Sunvie | B36: Entretien panneaux solaires annuel | D36: SURFACE | E36: =5187/3 -> 1729 | F36: =$N$18*E36 -> 596.505 | G36: =$N$19*E36 -> 497.0875 | H36: =$N$20*E36 -> 635.4075 | I36: =$M$21*E36 -> 224.77 | J36: =635.4075/2 -> 317.70375
A37: Efficiency on | B37: Entretien transformateur annuel | D37: SURFACE | E37: 1171 | F37: =$N$18*E37 -> 403.995 | G37: =$N$19*E37 -> 336.6625 | H37: =$N$20*E37 -> 430.3425 | I37: =$M$21*E37 -> 152.23 | J37: =430.3425/2 -> 215.17125
A38: EXTINCTEUR ECLAIR | B38: Entretien extincteurs | C38: MANNES | D38: SURFACE | E38: 0 | F38: =$N$18*E38 -> 0 | G38: =$N$19*E38 -> 0 | H38: =$N$20*E38 -> 0 | I38: =$M$21*E38 -> 0 | J38: 0
A39: Portes | B39: Entretien de portes | C39: MANNES | D39: SURFACE | E39: 0 | F39: =$N$18*E39 -> 0 | G39: =$N$19*E39 -> 0 | H39: =$N$20*E39 -> 0 | I39: =$M$21*E39 -> 0 | J39: 0
A40: Cabinet comptable | B40: frais de gestion | C40: 2% loyer annuel | D40: SURFACE | F40: 6000 | G40: 5052 | H40: 6159 | J40: =6159/2 -> 3079.5
A41: Cyrisea | B41: Entretien GTB annuel 18/05/2026 au 18/05/2027 | C41: 46149 | D41: SURFACE | E41: 2640 | F41: =$N$18*E41 -> 910.8 | G41: =$N$19*E41 -> 759 | H41: =$N$20*E41 -> 970.2 | I41: =$M$21*E41 -> 343.2 | J41: =970.2/2 -> 485.1
A42: KONE | B42: contrat annuel ( 1 facture /semestre) | D42: 100 | E42: 4611.24 | G42: =E42 -> 4611.24
...

Sheet taxe foncière
A1: T.Foncière 2025 | B1: 23744
A4: MANNES | B4: 0.3 | C4: 0.345 | F4: =B1*C4 -> 8191.68
A5: ARTISTE FORMATION | B5: 0.25 | C5: 0.2875 | F5: =B1*C5 -> 6826.4
A6: EUREKA 34 | B6: 0.32 | C6: 0.3675 | F6: =B1*C6 -> 8725.92 | G6: 1/2 année | H6: =F6/2 -> 4362.96
A7: COMMUN | B7: 0.13 | C7: locaux techniques+terrasse+cour commune
C12: PROV POUR TAXES
A13: MANNES | C13: =2300*6 -> 13800 | D13: 6 mois
A14: ARTISTE FORMATION | C14: =4050*5 -> 20250 | D14: pas de prov sur taxes en Janvier / 5 mois
A15: EUREKA 34 | C15: =5132.5*5 -> 25662.5 | D15: pas de prov sur taxes en Janvier / 5 mois

Sheet Électricité
A1: Répartition de l'immeuble
A2: MF Ivry | B2: 0.345
A3: RDC | B3: 0.2875
A4: R+1
A5: R+2
A6: R+3
A7: Halle | B7: 0.3675
B9: JANVIER 2026 | J9: FÉVRIER 2026
A10: kW facturés | B10: 36557 | I10: kW facturés | J10: 22195
A11: € facturés | B11: 7162.96 | I11: € facturés | J11: 4497.36
B12: Relevés de compteurs individuels | C12: Part de la consommation totale du bâtiment | D12: Conso réelle (kW) | E12: Part des Communs (kW) | F12: Total kW | G12: Total € | J12: Relevés de compteurs individuels | K12: Part de la consommation totale du bâtiment | L12: Conso réelle (kW) | M12: Part des Communs (kW) | N12: Total kW | O12: Total €
A13: Communs | B13: 18778 | C13: =B13/B21 -> 0.4874111 | D13: =C13*B10 -> 17818.288 | I13: Communs | J13: 12873 | K13: =J13/J21 -> 0.50779062 | L13: =K13*J10 -> 11270.413
A15: MF Ivry | B15: 6497 | C15: =B15/B21 -> 0.16863936 | D15: =C15*B10 -> 6164.9491 | E15: =D13*$B$2 -> 6147.3092 | F15: =D15+E15 -> 12312.258 | G15: =F15*B11/B10 -> 2412.4576 | I15: MF Ivry | J15: 5318 | K15: =J15/J21 -> 0.20977476 | L15: =K15*J10 -> 4655.9509 | M15: =L13*$B$2 -> 3888.2924 | N15: =L15+M15 -> 8544.2433 | O15: =N15*J11/J10 -> 1731.3151
A16: RDC | B16: 1773 | C16: =B16/B21 -> 0.046020869 | D16: =C16*B10 -> 1682.3849 | E16: =D13*$B$3 -> 5122.7577 | F16: =D16+D17+D18+D19+E16 -> 17696.521 | G16: =F16*B11/B10 -> 3467.4473 | I16: RDC | J16: 585 | K16: =J16/J21 -> 0.023076013 | L16: =K16*J10 -> 512.1721 | M16: =L13*$B$3 -> 3240.2437 | N16: =L16+L17+L18+L19+M16 -> 9508.88 | O16: =N16*J11/J10 -> 1926.7789
A17: R+1 | B17: 7429 | C17: =B17/B21 -> 0.19283082 | D17: =C17*B10 -> 7049.3161 | I17: R+1 | J17: 4251 | K17: =J17/J21 -> 0.16768569 | L17: =K17*J10 -> 3721.784
A18: R+2 | B18: 1979 | C18: =B18/B21 -> 0.051367907 | D18: =C18*B10 -> 1877.8566 | I18: R+2 | J18: 1452 | K18: =J18/J21 -> 0.057275847 | L18: =K18*J10 -> 1271.2374
A19: R+3 | B19: 2070 | C19: =B19/B21 -> 0.053729949 | D19: =C19*B10 -> 1964.2057 | I19: R+3 | J19: 872 | K19: =J19/J21 -> 0.034397065 | L19: =K19*J10 -> 763.44286
A20: Halle | B20: 0 | C20: =B20/B21 -> 0 | D20: =C20*B10 -> 0 | E20: =D13*$B$7 -> 6548.2207 | F20: =D20+E20 -> 6548.2207 | G20: =F20*B11/B10 -> 1283.055 | I20: Halle | J20: 0 | K20: =J20/J21 -> 0 | L20: =K20*J10 -> 0 | M20: =L13*$B$7 -> 4141.8767 | N20: =L20+M20 -> 4141.8767 | O20: =N20*J11/J10 -> 839.26608
A21: Total | B21: =SUM(B13:B20) -> 38526 | C21: =SUM(C13:C20) -> 1 | D21: =SUM(D13:D20) -> 36557 | E21: =SUM(E13:E20) -> 17818.288 | F21: =SUM(F13:F20) -> 36557 | G21: =SUM(G15:G20) -> 7162.96 | I21: Total | J21: =SUM(J13:J20) -> 25351 | K21: =SUM(K13:K20) -> 1 | L21: =SUM(L13:L20) -> 22195 | M21: =SUM(M13:M20) -> 11270.413 | N21: =SUM(N13:N20) -> 22195 | O21: =SUM(O15:O20) -> 4497.36
B24: MARS 2026 | J24: AVRIL 2026
A25: kW facturés | B25: 11316 | I25: kW facturés | J25: 5652
A26: € facturés | B26: 2552.49 | I26: € facturés | J26: 1248.45
B27: Relevés de compteurs individuels | C27: Part de la consommation totale du bâtiment | D27: Conso réelle (kW) | E27: Part des Communs (kW) | F27: Total kW | G27: Total € | J27: Relevés de compteurs individuels | K27: Part de la consommation totale du bâtiment | L27: Conso réelle (kW) | M27: Part des Communs (kW) | N27: Total kW | O27: Total €
A28: Communs | B28: 6506 | C28: =B28/B36 -> 0.41944427 | D28: =C28*B25 -> 4746.4313 | I28: Communs | J28: 2574 | K28: =J28/J36 -> 0.28155765 | L28: =K28*J25 -> 1591.3638
A30: MF Ivry | B30: 5756 | C30: =B30/B36 -> 0.37109148 | D30: =C30*B25 -> 4199.2712 | E30: =D28*$B$2 -> 1637.5188 | F30: =D30+E30 -> 5836.79 | G30: =F30*B26/B25 -> 1316.5737 | I30: MF Ivry | J30: 4774 | K30: =J30/J36 -> 0.52220521 | L30: =K30*J25 -> 2951.5038 | M30: =L28*$B$2 -> 549.02052 | N30: =L30+M30 -> 3500.5243 | O30: =N30*J26/J25 -> 773.21826
A31: RDC | B31: 300 | C31: =B31/B36 -> 0.019341113 | D31: =C31*B25 -> 218.86403 | E31: =D28*$B$3 -> 1364.599 | F31: =D31+D32+D33+D34+E31 -> 3734.8965 | G31: =F31*B26/B25 -> 842.46075 | I31: RDC | J31: 695 | K31: =J31/J36 -> 0.076022752 | L31: =K31*J25 -> 429.6806 | M31: =L28*$B$3 -> 457.5171 | N31: =L31+L32+L33+L34+M31 -> 1566.6495 | O31: =N31*J26/J25 -> 346.05158
A32: R+1 | B32: 2055 | C32: =B32/B36 -> 0.13248662 | D32: =C32*B25 -> 1499.2186 | I32: R+1 | J32: 650 | K32: =J32/J36 -> 0.071100416 | L32: =K32*J25 -> 401.85955
A33: R+2 | B33: 366 | C33: =B33/B36 -> 0.023596158 | D33: =C33*B25 -> 267.01412 | I33: R+2 | J33: 99 | K33: =J33/J36 -> 0.01082914 | L33: =K33*J25 -> 61.206301
A34: R+3 | B34: 528 | C34: =B34/B36 -> 0.034040358 | D34: =C34*B25 -> 385.2007 | I34: R+3 | J34: 350 | K34: =J34/J36 -> 0.038284839 | L34: =K34*J25 -> 216.38591
A35: Halle | B35: 0 | C35: =B35/B36 -> 0 | D35: =C35*B25 -> 0 | E35: =D28*$B$7 -> 1744.3135 | F35: =D35+E35 -> 1744.3135 | G35: =F35*B26/B25 -> 393.45553 | I35: Halle | K35: =J35/J36 -> 0 | L35: =K35*J25 -> 0 | M35: =L28*$B$7 -> 584.8262 | N35: =L35+M35 -> 584.8262 | O35: =N35*J26/J25 -> 129.18016
A36: Total | B36: =SUM(B28:B35) -> 15511 | C36: =SUM(C28:C35) -> 1 | D36: =SUM(D28:D35) -> 11316 | E36: =SUM(E28:E35) -> 4746.4313 | F36: =SUM(F28:F35) -> 11316 | G36: =SUM(G30:G35) -> 2552.49 | I36: Total | J36: =SUM(J28:J35) -> 9142 | K36: =SUM(K28:K35) -> 1 | L36: =SUM(L28:L35) -> 5652 | M36: =SUM(M28:M35) -> 1591.3638 | N36: =SUM(N28:N35) -> 5652 | O36: =SUM(O30:O35) -> 1248.45
B39: MAI 2026 | J39: JUIN 2025
A40: kW facturés | B40: 5803 | I40: kW facturés | J40: 0
A41: € facturés | B41: 1272.4 | I41: € facturés | J41: 0
B42: Relevés de compteurs individuels | C42: Part de la consommation totale du bâtiment | D42: Conso réelle (kW) | E42: Part des Communs (kW) | F42: Total kW | G42: Total € | J42: Relevés de compteurs individuels | K42: Part de la consommation totale du bâtiment | L42: Conso réelle (kW) | M42: Part des Communs (kW) | N42: Total kW | O42: Total €
A43: Communs | B43: 4596 | C43: =B43/B51 -> 0.43568111 | D43: =C43*B40 -> 2528.2575 | I43: Communs | J43: 4481 | K43: =J43/J51 -> 0.41773096 | L43: =K43*J40 -> 0
A45: MF Ivry | B45: 4933 | C45: =B45/B51 -> 0.46762726 | D45: =C45*B40 -> 2713.641 | E45: =D43*$B$2 -> 872.24883 | F45: =D45+E45 -> 3585.8898 | G45: =F45*B41/B40 -> 786.26335 | I45: MF Ivry | J45: 5126 | K45: =J45/J51 -> 0.47785961 | L45: =K45*J40 -> 0 | M45: =L43*$B$2 -> 0 | N45: =L45+M45 -> 0 | O45: =N45*J41/J40 -> #DIV/0!
A46: RDC | B46: 337 | C46: =B46/B51 -> 0.031946156 | D46: =C46*B40 -> 185.38354 | E46: =D43*$B$3 -> 726.87402 | F46: =D46+D47+D48+D49+E46 -> 1287.9755 | G46: =F46*B41/B40 -> 282.40911 | I46: RDC | J46: 420 | K46: =J46/J51 -> 0.039153538 | L46: =K46*J40 -> 0 | M46: =L43*$B$3 -> 0 | N46: =L46+L47+L48+L49+M46 -> 0 | O46: =N46*J41/J40 -> #DIV/0!
A47: R+1 | B47: 430 | C47: =B47/B51 -> 0.040762158 | D47: =C47*B40 -> 236.5428 | I47: R+1 | J47: 430 | K47: =J47/J51 -> 0.040085765 | L47: =K47*J40 -> 0
A48: R+2 | B48: 98 | C48: =B48/B51 -> 0.0092899801 | D48: =C48*B40 -> 53.909754 | I48: R+2 | J48: 105 | K48: =J48/J51 -> 0.0097883845 | L48: =K48*J40 -> 0
...

Sheet eau
A1: Répartition de l'immeuble
A2: MF Ivry | B2: 0.345
A3: RDC | B3: 0.2875
A4: R+1
A5: R+2
A6: R+3
A7: Halle | B7: 0.3675
B9: JANVIER 2026 | J9: FÉVRIER 2026
A10: m3 facturés | I10: m3 facturés
A11: € facturés | I11: € facturés
B12: Relevés de compteurs individuels | C12: Part de la consommation totale du bâtiment | D12: Conso réelle (m3) | E12: Part des Communs (m3) | F12: Total m3 | G12: Total € | J12: Relevés de compteurs individuels | K12: Part de la consommation totale du bâtiment | L12: Conso réelle (m3) | M12: Part des Communs (m3) | N12: Total m3 | O12: Total €
A13: Communs | C13: =B13/B21 -> #DIV/0! | D13: =C13*B10 -> #DIV/0! | I13: Communs | K13: =J13/J21 -> #DIV/0! | L13: =K13*J10 -> #DIV/0!
A15: MF Ivry | C15: =B15/B21 -> #DIV/0! | D15: =C15*B10 -> #DIV/0! | E15: =D13*$B$2 -> #DIV/0! | F15: =D15+E15 -> #DIV/0! | G15: =F15*B11/B10 -> #DIV/0! | I15: MF Ivry | K15: =J15/J21 -> #DIV/0! | L15: =K15*J10 -> #DIV/0! | M15: =L13*$B$2 -> #DIV/0! | N15: =L15+M15 -> #DIV/0! | O15: =N15*J11/J10 -> #DIV/0!
A16: RDC | B16: 0 | C16: =B16/B21 -> #DIV/0! | D16: =C16*B10 -> #DIV/0! | E16: =D13*$B$3 -> #DIV/0! | F16: =D16+D17+D18+D19+E16 -> #DIV/0! | G16: =F16*B11/B10 -> #DIV/0! | I16: RDC | K16: =J16/J21 -> #DIV/0! | L16: =K16*J10 -> #DIV/0! | M16: =L13*$B$3 -> #DIV/0! | N16: =L16+L17+L18+L19+M16 -> #DIV/0! | O16: =N16*J11/J10 -> #DIV/0!
A17: R+1 | B17: 0 | C17: =B17/B21 -> #DIV/0! | D17: =C17*B10 -> #DIV/0! | I17: R+1 | K17: =J17/J21 -> #DIV/0! | L17: =K17*J10 -> #DIV/0!
A18: R+2 | B18: 0 | C18: =B18/B21 -> #DIV/0! | D18: =C18*B10 -> #DIV/0! | I18: R+2 | K18: =J18/J21 -> #DIV/0! | L18: =K18*J10 -> #DIV/0!
A19: R+3 | B19: 0 | C19: =B19/B21 -> #DIV/0! | D19: =C19*B10 -> #DIV/0! | I19: R+3 | K19: =J19/J21 -> #DIV/0! | L19: =K19*J10 -> #DIV/0!
A20: Halle | B20: 0 | C20: =B20/B21 -> #DIV/0! | D20: =C20*B10 -> #DIV/0! | E20: =D13*$B$7 -> #DIV/0! | F20: =D20+E20 -> #DIV/0! | G20: =F20*B11/B10 -> #DIV/0! | I20: Halle | J20: 0 | K20: =J20/J21 -> #DIV/0! | L20: =K20*J10 -> #DIV/0! | M20: =L13*$B$7 -> #DIV/0! | N20: =L20+M20 -> #DIV/0! | O20: =N20*J11/J10 -> #DIV/0!
A21: Total | B21: =SUM(B13:B20) -> 0 | C21: =SUM(C13:C20) -> #DIV/0! | D21: =SUM(D13:D20) -> #DIV/0! | E21: =SUM(E13:E20) -> #DIV/0! | F21: =SUM(F13:F20) -> #DIV/0! | G21: =SUM(G15:G20) -> #DIV/0! | I21: Total | J21: =SUM(J13:J20) -> 0 | K21: =SUM(K13:K20) -> #DIV/0! | L21: =SUM(L13:L20) -> #DIV/0! | M21: =SUM(M13:M20) -> #DIV/0! | N21: =SUM(N13:N20) -> #DIV/0! | O21: =SUM(O15:O20) -> #DIV/0!
B24: MARS 2026 | J24: AVRIL 2026
A25: m3 facturés | B25: 129 | I25: m3 facturés
A26: € facturés | B26: 654.28 | I26: € facturés
B27: Relevés de compteurs individuels | C27: Part de la consommation totale du bâtiment | D27: Conso réelle (m3) | E27: Part des Communs (m3) | F27: Total m3 | G27: Total € | J27: Relevés de compteurs individuels | K27: Part de la consommation totale du bâtiment | L27: Conso réelle (m3) | M27: Part des Communs (m3) | N27: Total m3 | O27: Total €
A28: Communs | C28: =B28/B36 -> #DIV/0! | D28: =C28*B25 -> #DIV/0! | I28: Communs | K28: =J28/J36 -> #DIV/0! | L28: =K28*J25 -> #DIV/0!
A30: MF Ivry | C30: =B30/B36 -> #DIV/0! | D30: =C30*B25 -> #DIV/0! | E30: =D28*$B$2 -> #DIV/0! | F30: =D30+E30 -> #DIV/0! | G30: =F30*B26/B25 -> #DIV/0! | I30: MF Ivry | K30: =J30/J36 -> #DIV/0! | L30: =K30*J25 -> #DIV/0! | M30: =L28*$B$2 -> #DIV/0! | N30: =L30+M30 -> #DIV/0! | O30: =N30*J26/J25 -> #DIV/0!
A31: RDC | C31: =B31/B36 -> #DIV/0! | D31: =C31*B25 -> #DIV/0! | E31: =D28*$B$3 -> #DIV/0! | F31: =D31+D32+D33+D34+E31 -> #DIV/0! | G31: =F31*B26/B25 -> #DIV/0! | I31: RDC | K31: =J31/J36 -> #DIV/0! | L31: =K31*J25 -> #DIV/0! | M31: =L28*$B$3 -> #DIV/0! | N31: =L31+L32+L33+L34+M31 -> #DIV/0! | O31: =N31*J26/J25 -> #DIV/0!
A32: R+1 | C32: =B32/B36 -> #DIV/0! | D32: =C32*B25 -> #DIV/0! | I32: R+1 | K32: =J32/J36 -> #DIV/0! | L32: =K32*J25 -> #DIV/0!
A33: R+2 | C33: =B33/B36 -> #DIV/0! | D33: =C33*B25 -> #DIV/0! | I33: R+2 | K33: =J33/J36 -> #DIV/0! | L33: =K33*J25 -> #DIV/0!
A34: R+3 | C34: =B34/B36 -> #DIV/0! | D34: =C34*B25 -> #DIV/0! | I34: R+3 | K34: =J34/J36 -> #DIV/0! | L34: =K34*J25 -> #DIV/0!
A35: Halle | C35: =B35/B36 -> #DIV/0! | D35: =C35*B25 -> #DIV/0! | E35: =D28*$B$7 -> #DIV/0! | F35: =D35+E35 -> #DIV/0! | G35: =F35*B26/B25 -> #DIV/0! | I35: Halle | K35: =J35/J36 -> #DIV/0! | L35: =K35*J25 -> #DIV/0! | M35: =L28*$B$7 -> #DIV/0! | N35: =L35+M35 -> #DIV/0! | O35: =N35*J26/J25 -> #DIV/0!
A36: Total | B36: =SUM(B28:B35) -> 0 | C36: =SUM(C28:C35) -> #DIV/0! | D36: =SUM(D28:D35) -> #DIV/0! | E36: =SUM(E28:E35) -> #DIV/0! | F36: =SUM(F28:F35) -> #DIV/0! | G36: =SUM(G30:G35) -> #DIV/0! | I36: Total | J36: =SUM(J28:J35) -> 0 | K36: =SUM(K28:K35) -> #DIV/0! | L36: =SUM(L28:L35) -> #DIV/0! | M36: =SUM(M28:M35) -> #DIV/0! | N36: =SUM(N28:N35) -> #DIV/0! | O36: =SUM(O30:O35) -> #DIV/0!
B39: MAI 2026 | J39: JUIN 2026
A40: m3 facturés | I40: m3 facturés
A41: € facturés | I41: € facturés
B42: Relevés de compteurs individuels | C42: Part de la consommation totale du bâtiment | D42: Conso réelle (m3) | E42: Part des Communs (m3) | F42: Total m3 | G42: Total € | J42: Relevés de compteurs individuels | K42: Part de la consommation totale du bâtiment | L42: Conso réelle (m3) | M42: Part des Communs (m3) | N42: Total m3 | O42: Total €
A43: Communs | C43: =B43/B51 -> #DIV/0! | D43: =C43*B40 -> #DIV/0! | I43: Communs | K43: =J43/J51 -> #DIV/0! | L43: =K43*J40 -> #DIV/0!
A45: MF Ivry | C45: =B45/B51 -> #DIV/0! | D45: =C45*B40 -> #DIV/0! | E45: =D43*$B$2 -> #DIV/0! | F45: =D45+E45 -> #DIV/0! | G45: =F45*B41/B40 -> #DIV/0! | I45: MF Ivry | K45: =J45/J51 -> #DIV/0! | L45: =K45*J40 -> #DIV/0! | M45: =L43*$B$2 -> #DIV/0! | N45: =L45+M45 -> #DIV/0! | O45: =N45*J41/J40 -> #DIV/0!
A46: RDC | C46: =B46/B51 -> #DIV/0! | D46: =C46*B40 -> #DIV/0! | E46: =D43*$B$3 -> #DIV/0! | F46: =D46+D47+D48+D49+E46 -> #DIV/0! | G46: =F46*B41/B40 -> #DIV/0! | I46: RDC | K46: =J46/J51 -> #DIV/0! | L46: =K46*J40 -> #DIV/0! | M46: =L43*$B$3 -> #DIV/0! | N46: =L46+L47+L48+L49+M46 -> #DIV/0! | O46: =N46*J41/J40 -> #DIV/0!
A47: R+1 | C47: =B47/B51 -> #DIV/0! | D47: =C47*B40 -> #DIV/0! | I47: R+1 | K47: =J47/J51 -> #DIV/0! | L47: =K47*J40 -> #DIV/0!
A48: R+2 | C48: =B48/B51 -> #DIV/0! | D48: =C48*B40 -> #DIV/0! | I48: R+2 | K48: =J48/J51 -> #DIV/0! | L48: =K48*J40 -> #DIV/0!
...

Sheet PROV CHARGES FACTUREES
A1: PROVISIONS FACTUREES AUX LOCATAIRES 2025
A3: LOCATAIRE | B3: PROVISIONS HT CHARGES VERSEES
A4: MF IVRY | B4: =3140*6 -> 18840 | C4: 6 mois
A5: ARTISTE FORMATION | B5: =2700*6 -> 16200 | C5: 6 mois
A6: E 34 | B6: =3421.67*6 -> 20530.02 | C6: 6 mois
B8: =SUM(B4:B6) -> 55570.02
B12: P
